BEGIN:VCALENDAR
VERSION:2.0
PRODID:-//Oklahoma Volleyball Co - ECPv6.15.20//NONSGML v1.0//EN
CALSCALE:GREGORIAN
METHOD:PUBLISH
X-WR-CALNAME:Oklahoma Volleyball Co
X-ORIGINAL-URL:https://okvolleyball.co
X-WR-CALDESC:Events for Oklahoma Volleyball Co
REFRESH-INTERVAL;VALUE=DURATION:PT1H
X-Robots-Tag:noindex
X-PUBLISHED-TTL:PT1H
BEGIN:VTIMEZONE
TZID:America/Chicago
BEGIN:DAYLIGHT
TZOFFSETFROM:-0600
TZOFFSETTO:-0500
TZNAME:CDT
DTSTART:20250309T080000
END:DAYLIGHT
BEGIN:STANDARD
TZOFFSETFROM:-0500
TZOFFSETTO:-0600
TZNAME:CST
DTSTART:20251102T070000
END:STANDARD
BEGIN:DAYLIGHT
TZOFFSETFROM:-0600
TZOFFSETTO:-0500
TZNAME:CDT
DTSTART:20260308T080000
END:DAYLIGHT
BEGIN:STANDARD
TZOFFSETFROM:-0500
TZOFFSETTO:-0600
TZNAME:CST
DTSTART:20261101T070000
END:STANDARD
BEGIN:DAYLIGHT
TZOFFSETFROM:-0600
TZOFFSETTO:-0500
TZNAME:CDT
DTSTART:20270314T080000
END:DAYLIGHT
BEGIN:STANDARD
TZOFFSETFROM:-0500
TZOFFSETTO:-0600
TZNAME:CST
DTSTART:20271107T070000
END:STANDARD
END:VTIMEZONE
BEGIN:VEVENT
DTSTART;VALUE=DATE:20260512
DTEND;VALUE=DATE:20260701
DTSTAMP:20260421T135933
CREATED:20260409T225826Z
LAST-MODIFIED:20260409T231223Z
UID:1433-1778544000-1782863999@okvolleyball.co
SUMMARY:Tues Night Upper Intermediate - Late Spring 2026
DESCRIPTION:Season Length: 8 weeksGame Format: 1 best 3 out of 5 match per night. Sets to 25.Start times: 6:30\, 8:00\, 9:30dates: 5.12\, 5.19\, 5.26\, 6.2\, 6.9\, 6.16\, 6.23\, 6.30Cost:$83 – 6 players$71 – 7 players$63 – 8 playersThe cost is $500 per team regardless of how many players are on the team. The captain will input the number of players on their team and will only pay for themselves.Early Bird Rate ends – 5/5/26. Price increases to $550. \n			\n			\n				\n				\n				\n				\n			\n				\n				\n				\n				\n				\n				\n				\n				\n				\n				\n				League Rules\n			\n				\n				\n				\n				\n				The Upper Intermediate rules are the same as the intermeditate rules except for any exceptions listed below: \n1. There are no gender rules. The makeup of the team does not matter.2. There are no VLA or College player limitations. \n			\n				Intermediate Rules\n			\n			\n				\n				\n				\n				\n				\n				\n				\n				\n				\n				Sign up\n			\n				\n				\n				\n				\n				If you are a team member the captain of your team will send you a link to sign up with once they have signed up. \n			\n			\n				\n				\n				\n				\n			\n				\n				\n				\n				\n				\n				\n			\n				\n				\n				\n				\n				\n			\n				\n				\n				\n				\n				\n				Team Captain
URL:https://okvolleyball.co/event/tues-night-upper-intermediate-late-spring-2026/
LOCATION:The Hive Edge\, 14406 N Lincoln Blvd\, Edmond\, OK\, 73013\, United States
CATEGORIES:Leagues
END:VEVENT
END:VCALENDAR